BEGIN:VCALENDAR
VERSION:2.0
PRODID:-//NECC - ECPv4.9.14//NONSGML v1.0//EN
CALSCALE:GREGORIAN
METHOD:PUBLISH
X-WR-CALNAME:NECC
X-ORIGINAL-URL:https://www.necc.mass.edu
X-WR-CALDESC:Events for NECC
BEGIN:VTIMEZONE
TZID:America/New_York
BEGIN:DAYLIGHT
TZOFFSETFROM:-0500
TZOFFSETTO:-0400
TZNAME:EDT
DTSTART:20210314T070000
END:DAYLIGHT
BEGIN:STANDARD
TZOFFSETFROM:-0400
TZOFFSETTO:-0500
TZNAME:EST
DTSTART:20211107T060000
END:STANDARD
END:VTIMEZONE
BEGIN:VEVENT
DTSTART;TZID=America/New_York:20210421T120000
DTEND;TZID=America/New_York:20210421T124500
DTSTAMP:20210702T110218
CREATED:20201208T195258Z
LAST-MODIFIED:20201208T195258Z
UID:35014-1619006400-1619009100@www.necc.mass.edu
SUMMARY:NECC Information Session Online
DESCRIPTION: \nVirtual Information Sessions\nThe best way to find out if NECC is right for you\, and get all of your questions answered\, is to attend an Information Session. \nJoin us for a virtual information session and hear more about what it’s like to be a student at NECC including information such as our; \n\nacademic programs\nstudent support programs\nfinancial aid options\ncampus life opportunities\n\nSign Up Now! \n Print View
URL:https://www.necc.mass.edu/event/necc-information-session-online-30/2021-04-21/
LOCATION:Online with Zoom\, United States
CATEGORIES:Admissions,All Info Sessions,Info Sessions and Tours,Online Information Session
ORGANIZER;CN="Admissions":MAILTO:admissions@necc.mass.edu
END:VEVENT
END:VCALENDAR