BEGIN:VCALENDAR
VERSION:2.0
PRODID:-//NECC - ECPv4.9.14//NONSGML v1.0//EN
CALSCALE:GREGORIAN
METHOD:PUBLISH
X-WR-CALNAME:NECC
X-ORIGINAL-URL:https://www.necc.mass.edu
X-WR-CALDESC:Events for NECC
BEGIN:VTIMEZONE
TZID:America/New_York
BEGIN:DAYLIGHT
TZOFFSETFROM:-0500
TZOFFSETTO:-0400
TZNAME:EDT
DTSTART:20210314T070000
END:DAYLIGHT
BEGIN:STANDARD
TZOFFSETFROM:-0400
TZOFFSETTO:-0500
TZNAME:EST
DTSTART:20211107T060000
END:STANDARD
END:VTIMEZONE
BEGIN:VEVENT
DTSTART;TZID=America/New_York:20210714T160000
DTEND;TZID=America/New_York:20210714T170000
DTSTAMP:20210702T110312
CREATED:20210414T140602Z
LAST-MODIFIED:20210607T133917Z
UID:37331-1626278400-1626282000@www.necc.mass.edu
SUMMARY:Presentacion de Admision de NECC
DESCRIPTION: \nSi deseas recibir mas informacion sobre NECC\, registrarse para una de Sesion de Informacion virtual\, completando este formulario. \nMás Información\nDamos la bienvenida a las solicitudes de interpretación en lenguaje de señas y otras solicitudes de acceso (es decir\, tiempo real asistido por computadora (CART)\, alergias a los alimentos\, etc.). Por favor\, póngase en contacto con el anfitrión de este evento para solicitudes\, preguntas o información del evento Thomas Ortiz tortiz@necc.mass.edu. \n Print View
URL:https://www.necc.mass.edu/event/presentacion-de-admision-de-necc-24/
LOCATION:Online with Zoom\, United States
CATEGORIES:Admissions,All Info Sessions,Info Sessions and Tours,Online Information Session,Spanish Events,Spanish Info Sessions & Tours
ORGANIZER;CN="Admissions":MAILTO:admissions@necc.mass.edu
END:VEVENT
END:VCALENDAR